BEGIN:VCALENDAR
VERSION:2.0
PRODID:-//DMV-Landesgruppe Hessen e.V. - ECPv6.15.20//NONSGML v1.0//EN
CALSCALE:GREGORIAN
METHOD:PUBLISH
X-ORIGINAL-URL:https://www.dmv-hessen.de
X-WR-CALDESC:Veranstaltungen für DMV-Landesgruppe Hessen e.V.
REFRESH-INTERVAL;VALUE=DURATION:PT1H
X-Robots-Tag:noindex
X-PUBLISHED-TTL:PT1H
BEGIN:VTIMEZONE
TZID:Europe/Berlin
BEGIN:DAYLIGHT
TZOFFSETFROM:+0100
TZOFFSETTO:+0200
TZNAME:CEST
DTSTART:20230326T010000
END:DAYLIGHT
BEGIN:STANDARD
TZOFFSETFROM:+0200
TZOFFSETTO:+0100
TZNAME:CET
DTSTART:20231029T010000
END:STANDARD
BEGIN:DAYLIGHT
TZOFFSETFROM:+0100
TZOFFSETTO:+0200
TZNAME:CEST
DTSTART:20240331T010000
END:DAYLIGHT
BEGIN:STANDARD
TZOFFSETFROM:+0200
TZOFFSETTO:+0100
TZNAME:CET
DTSTART:20241027T010000
END:STANDARD
BEGIN:DAYLIGHT
TZOFFSETFROM:+0100
TZOFFSETTO:+0200
TZNAME:CEST
DTSTART:20250330T010000
END:DAYLIGHT
BEGIN:STANDARD
TZOFFSETFROM:+0200
TZOFFSETTO:+0100
TZNAME:CET
DTSTART:20251026T010000
END:STANDARD
BEGIN:DAYLIGHT
TZOFFSETFROM:+0100
TZOFFSETTO:+0200
TZNAME:CEST
DTSTART:20260329T010000
END:DAYLIGHT
BEGIN:STANDARD
TZOFFSETFROM:+0200
TZOFFSETTO:+0100
TZNAME:CET
DTSTART:20261025T010000
END:STANDARD
END:VTIMEZONE
BEGIN:VEVENT
DTSTART;VALUE=DATE:20251108
DTEND;VALUE=DATE:20251109
DTSTAMP:20260421T132156
CREATED:20250929T074125Z
LAST-MODIFIED:20250929T075417Z
UID:2784-1762560000-1762646399@www.dmv-hessen.de
SUMMARY:Jahreshauptversammlung und Meisterehrung
DESCRIPTION:Save the Date: Jahreshauptversammlung\, MSJ-Vollversammlung & Meisterehrung am 8. November 2025 \nAm Samstag\, den 8. November 2025\, laden wir euch herzlich zu unserer Jahreshauptversammlung\, der MSJ-Vollversammlung und zur feierlichen Meisterehrung ein! \n📍 Ort: 64689 Grasellenbach\, Am Kurpark 1\n🕕 Einlass: ab 18:00 Uhr \nDie schriftliche Einladung erfolgt – wie gewohnt – satzungsgemäß mit einer Frist von vier Wochen über unsere Mitgliederzeitschrift und natürlich auch hier auf der Webseite. \nDie zu Ehrenden der Meisterfeier werden von den jeweiligen Referenten gesondert eingeladen. \nWir freuen uns auf einen schönen gemeinsamen Abend mit euch – voller Austausch\, Rückblick und verdienter Ehrungen!
URL:https://www.dmv-hessen.de/event/jahreshauptversammlung-und-meisterehrung/
LOCATION:Nibelungenhalle Gras Ellenbach\, Am Kurpark\, Grasellenbach\, Hessen\, 64689\, Germany
CATEGORIES:Allgemein
ORGANIZER;CN="LG Hessen":MAILTO:vorsitz@dmvhessen.de
END:VEVENT
BEGIN:VEVENT
DTSTART;VALUE=DATE:20251003
DTEND;VALUE=DATE:20251004
DTSTAMP:20260421T132156
CREATED:20250228T213105Z
LAST-MODIFIED:20250228T213105Z
UID:188-1759449600-1759535999@www.dmv-hessen.de
SUMMARY:4. Lauf DMV Mofacup
DESCRIPTION:
URL:https://www.dmv-hessen.de/event/4-lauf-dmv-mofacup/
LOCATION:MSC Neuenhasslau e.V. im DMV /Grasbahn\, Am Pfefferacker 4\,\, Hasselroth\, Hessen\, 63594\, Germany
CATEGORIES:DMV Mofacup
END:VEVENT
BEGIN:VEVENT
DTSTART;VALUE=DATE:20250906
DTEND;VALUE=DATE:20250907
DTSTAMP:20260421T132156
CREATED:20250228T212040Z
LAST-MODIFIED:20250228T221122Z
UID:186-1757116800-1757203199@www.dmv-hessen.de
SUMMARY:3. Lauf DMV Mofacup 2025
DESCRIPTION:
URL:https://www.dmv-hessen.de/event/3-lauf-dmv-mofacup-2025/
LOCATION:MSC Klein Krotzenburg\, Stehnweg\, Hainburg\, Hessen\, 63512\, Germany
CATEGORIES:DMV Mofacup
END:VEVENT
BEGIN:VEVENT
DTSTART;VALUE=DATE:20250831
DTEND;VALUE=DATE:20250901
DTSTAMP:20260421T132156
CREATED:20250715T061723Z
LAST-MODIFIED:20250715T105655Z
UID:2753-1756598400-1756684799@www.dmv-hessen.de
SUMMARY:Odenwälder Veteranenfahrt 2025
DESCRIPTION:Anfahrt und Aufstellung\nDie Oldtimer werden direkt auf dem Parkplatz des Feuerwehrhauses aufgestellt. Hier bitte den Anweisungen des Personals Folge leisten. \nDie Zufahrt zu den Teilnehmer-Parkplätzen erfolgt grundsätzlich über die Straßen „Märzweg“ und „Am Bärling“. \nDie Ausfahrt erfolgt nach dem Start und nach der Veranstaltung grundsätzlich über die Straßen „Am Bärling“ und „Zum Eichwäldchen“. \nDer genaue Standort und die Anfahrten können direkt mit den Links in Google Maps angeschaut werden.
URL:https://www.dmv-hessen.de/event/odenwaelder-veteranenfahrt-2025/
LOCATION:MSC Groß Bieberau e.V. im DMV\, Modautal – Lützelbach\, Hessen\, 64397\, Germany
ORGANIZER;CN="MSC-Gross Bieberau":MAILTO:info@msc-gross-bieberau.de
END:VEVENT
BEGIN:VEVENT
DTSTART;VALUE=DATE:20250816
DTEND;VALUE=DATE:20250817
DTSTAMP:20260421T132156
CREATED:20250228T211825Z
LAST-MODIFIED:20250715T060056Z
UID:175-1755302400-1755388799@www.dmv-hessen.de
SUMMARY:2. Lauf DMV Mofacup 2025
DESCRIPTION:!!! ABGESAGT !!! \nVeranstalter: : MSC Aufenau e.V.im DMV\nWann: 16.08.2025\nOrt: Aufenau\nWebseite: https://www.msc-aufenau.de/ \nPlus Code:
URL:https://www.dmv-hessen.de/event/2-lauf-dmv-mofacup-2025/
LOCATION:Hessen
CATEGORIES:DMV Mofacup
END:VEVENT
BEGIN:VEVENT
DTSTART;VALUE=DATE:20250719
DTEND;VALUE=DATE:20250721
DTSTAMP:20260421T132156
CREATED:20250302T120723Z
LAST-MODIFIED:20250302T121741Z
UID:296-1752883200-1753055999@www.dmv-hessen.de
SUMMARY:WM Seitenwagen Motocross
DESCRIPTION:
URL:https://www.dmv-hessen.de/event/wm-seitenwagen-motocross/
LOCATION:MSC Straßbessenbach\, Zum Sportfeld 2\, Bessenbach\, Bayern\, 63856\, Germany
END:VEVENT
BEGIN:VEVENT
DTSTART;VALUE=DATE:20250524
DTEND;VALUE=DATE:20250525
DTSTAMP:20260421T132156
CREATED:20250228T195606Z
LAST-MODIFIED:20250228T213743Z
UID:173-1748044800-1748131199@www.dmv-hessen.de
SUMMARY:1. Lauf DMV Mofacup 2025
DESCRIPTION:Veranstalter: RMSV Biebesheim e.V. im DMV\nWann: 24.05.2025\nOrt: Biebesheim\nWebseite: http://www.rmsv-biebesheim.org/ \nPlus Code:QFR5+7M Biebesheim am Rhein
URL:https://www.dmv-hessen.de/event/1-lauf-dmv-mofacup-2025/
LOCATION:RMSV Biebesheim \, Außerhalb\, Biebesheim am Rhein\, Hessen\, 64584\, Germany
CATEGORIES:DMV Mofacup
END:VEVENT
BEGIN:VEVENT
DTSTART;TZID=Europe/Berlin:20250504T100000
DTEND;TZID=Europe/Berlin:20250504T190000
DTSTAMP:20260421T132156
CREATED:20250412T190159Z
LAST-MODIFIED:20250413T052203Z
UID:2660-1746352800-1746385200@www.dmv-hessen.de
SUMMARY:Veteranen- u. Schrauber-Treff
DESCRIPTION:am Sonntag\, 04. Mai 2025\, ab 10:00 Uhr\,\nam Clubheim an der Grasbahn in Klein-Krotzenburg
URL:https://www.dmv-hessen.de/event/veteranen-u-schrauber-treff/
LOCATION:MSC Klein Krotzenburg\, Stehnweg\, Hainburg\, Hessen\, 63512\, Germany
END:VEVENT
BEGIN:VEVENT
DTSTART;VALUE=DATE:20250504
DTEND;VALUE=DATE:20250505
DTSTAMP:20260421T132156
CREATED:20250228T220240Z
LAST-MODIFIED:20250228T221045Z
UID:200-1746316800-1746403199@www.dmv-hessen.de
SUMMARY:Kartslalom DM Vorlauf
DESCRIPTION:
URL:https://www.dmv-hessen.de/event/kartslalom-dm-vorlauf/
LOCATION:MSC Gross Heubach\, Röllfelderstrasse\, Großheubach\, Hessen\, 63920 G\, Germany
CATEGORIES:Kart /JKS
END:VEVENT
BEGIN:VEVENT
DTSTART;VALUE=DATE:20250426
DTEND;VALUE=DATE:20250428
DTSTAMP:20260421T132156
CREATED:20250301T124403Z
LAST-MODIFIED:20250301T124613Z
UID:219-1745625600-1745798399@www.dmv-hessen.de
SUMMARY:1&2. Lauf HTJM u. Trialcup
DESCRIPTION:Veranstaltergemeinschaft MSV Hammelbach und IMS Schlierbachtal
URL:https://www.dmv-hessen.de/event/12-lauf-htjm-u-trialcup/
LOCATION:MSV Hammelbach\, Gasse 2\, Grasellenbach\, Hessen\, 64689\, Germany
CATEGORIES:Trial
END:VEVENT
BEGIN:VEVENT
DTSTART;VALUE=DATE:20250419
DTEND;VALUE=DATE:20250420
DTSTAMP:20260421T132156
CREATED:20250301T235136Z
LAST-MODIFIED:20250301T235152Z
UID:263-1745020800-1745107199@www.dmv-hessen.de
SUMMARY:1000Km Hockenheim
DESCRIPTION:Am 19. April 2025 ist es wieder so weit. Die Motorradsaison beginnt traditionell am Ostersamstag mit den DMV 1000km Hockenheim. Die Veranstaltung bildet auch in diesem Jahr den Auftakt zum Deutschen Langstrecken Cup 2025 und der DMV – Deutscher Motorsport Verband e.V. tritt zum zweiten Mal nach der Wiederauflage der Traditionsveranstaltung als Veranstalter auf.
URL:https://www.dmv-hessen.de/event/1000km-hockenheim/
LOCATION:Am Motodrom 1\, 68766 Hockenheim\, Am Motodrom 1\,\, Hockenheim\, BW\, 68766
END:VEVENT
BEGIN:VEVENT
DTSTART;VALUE=DATE:20250405
DTEND;VALUE=DATE:20250406
DTSTAMP:20260421T132156
CREATED:20250324T063030Z
LAST-MODIFIED:20250324T065555Z
UID:2587-1743811200-1743897599@www.dmv-hessen.de
SUMMARY:Umweltseminar Stufe C
DESCRIPTION:Der DMSB schreibt ab der Saison 2026 für Prädikatsveranstaltungen einen lizensierten Umweltbeauftragten Stufe A vor. Um diese Stufe zu erlangen\, muss vorher die Lizenz der Stufe C erworben werden.\nUm seinen Vereinen bei der Umsetzung dieser Voraussetzungen zu helfen hat sich die Landesgruppe Hessen des DMV dazu entschlossen eine entsprechende Schulung durchzuführen\, die sowohl für Motorrad- wie auch Automobilveranstaltungen gültig ist.\nDie Schulung findet am Samstag\, den 5. April 2025\, Im Vereinsheim des MSC Klein Krotzenburg im DMV e.V.\, Stehnweg\, verlängere Edisonstraße\, 63512 Hainburg\, von 10:00 Uhr bis ca. 15:00 Uhr statt.\nDie Schulung ist für Mitglieder der DMV Landesgruppe Hessen kostenfrei!
URL:https://www.dmv-hessen.de/event/umweltseminar-stufe-c/
LOCATION:MSC Klein Krotzenburg\, Stehnweg\, Hainburg\, Hessen\, 63512\, Germany
CATEGORIES:Allgemein
ORGANIZER;CN="LG Hessen":MAILTO:vorsitz@dmvhessen.de
END:VEVENT
BEGIN:VEVENT
DTSTART;VALUE=DATE:20250323
DTEND;VALUE=DATE:20250324
DTSTAMP:20260421T132156
CREATED:20250228T195247Z
LAST-MODIFIED:20250301T125402Z
UID:169-1742688000-1742774399@www.dmv-hessen.de
SUMMARY:DMV Jahreshauptversammlung 2025
DESCRIPTION:23. März 2025 12:00 Uhr\nDOSB Haus des Sports II\, Otto Fleck-Schneise 12\, 60528 Frankfurt am Main\nAnträge für die Hauptversammlung müssen bis spätestens 07. März 2025\nder DMV GeschÃ¤ftsstelle\, Otto-Fleck-Schneise 12\, 60528 Frankfurt\, schriftlich vorliegen.
URL:https://www.dmv-hessen.de/event/dmv-jahreshauptversammlung-2025/
LOCATION:JHV DMV\, Otto Fleck-Schneise 12\,\, Frankfurt am Main\, 60528\, Germany
CATEGORIES:Allgemein
END:VEVENT
BEGIN:VEVENT
DTSTART;VALUE=DATE:20250111
DTEND;VALUE=DATE:20250112
DTSTAMP:20260421T132156
CREATED:20241128T052133Z
LAST-MODIFIED:20241128T052213Z
UID:14-1736553600-1736639999@www.dmv-hessen.de
SUMMARY:Endurofrühstart
DESCRIPTION:39. Enduro-Frühstart 2025
URL:https://www.dmv-hessen.de/event/endurofruehstart/
LOCATION:Hessen
END:VEVENT
BEGIN:VEVENT
DTSTART;TZID=Europe/Berlin:20241228T180000
DTEND;TZID=Europe/Berlin:20241228T235900
DTSTAMP:20260421T132156
CREATED:20241128T100449Z
LAST-MODIFIED:20241215T194610Z
UID:66-1735408800-1735430340@www.dmv-hessen.de
SUMMARY:Polarfete
DESCRIPTION:MSC Neuenhasslau e.V. im DMV\n538X+JC Hasselroth\, Deutschland
URL:https://www.dmv-hessen.de/event/polarfete/
LOCATION:MSC Neuenhasslau e.V. im DMV /Grasbahn\, Am Pfefferacker 4\,\, Hasselroth\, Hessen\, 63594\, Germany
END:VEVENT
BEGIN:VEVENT
DTSTART;TZID=Europe/Berlin:20241219T193000
DTEND;TZID=Europe/Berlin:20241219T203000
DTSTAMP:20260421T132156
CREATED:20241128T095344Z
LAST-MODIFIED:20241128T095700Z
UID:61-1734636600-1734640200@www.dmv-hessen.de
SUMMARY:LGH Vorstandssitzung  (Teams)
DESCRIPTION:Gesamtvorstand LGH
URL:https://www.dmv-hessen.de/event/vorstandssitzung-teams/
LOCATION:Hessen
END:VEVENT
BEGIN:VEVENT
DTSTART;VALUE=DATE:20241207
DTEND;VALUE=DATE:20241208
DTSTAMP:20260421T132156
CREATED:20241128T050052Z
LAST-MODIFIED:20241128T050119Z
UID:8-1733529600-1733615999@www.dmv-hessen.de
SUMMARY:Nikolaustrial beim MSC Klein Krotzenburg
DESCRIPTION:
URL:https://www.dmv-hessen.de/event/nikolaustrial-beim-msc-klein-krotzenburg/
LOCATION:Hessen
END:VEVENT
END:VCALENDAR